Felt | Verdi |
AlreadyApplied | True |
Aperture | 1.8 |
ApertureValue | 1.8 |
AutoLateralCA | 0 |
BitsPerSample | 8 |
Blacks2012 | 0 |
BlueHue | 0 |
BlueSaturation | 0 |
BrightnessValue | 7.681444487 |
CameraProfile | Embedded |
CircleOfConfusion | 0.006 mm |
Clarity2012 | +10 |
ColorComponents | 3 |
ColorGradeBlending | 50 |
ColorGradeGlobalHue | 0 |
ColorGradeGlobalLum | 0 |
ColorGradeGlobalSat | 0 |
ColorGradeHighlightLum | 0 |
ColorGradeMidtoneHue | 0 |
ColorGradeMidtoneLum | 0 |
ColorGradeMidtoneSat | 0 |
ColorGradeShadowLum | 0 |
ColorMode | RGB |
ColorNoiseReduction | 0 |
ColorSpace | sRGB |
ColorTransform | YCbCr |
Contrast2012 | 0 |
ConvertToGrayscale | False |
CreateDate (1) | 2024:05:08 21:51:12+02:00 |
CreateDate | 2024:05:08 21:51:12 |
CreatorTool | 17.4.1 |
DateCreated (1) | 2024:05:08 |
DateCreated | 2024:05:08 21:51:12.092+02:00 |
DateTimeOriginal | 2024:05:08 21:51:12 |
DefringeGreenAmount | 0 |
DefringeGreenHueHi | 60 |
DefringeGreenHueLo | 40 |
DefringePurpleAmount | 0 |
DefringePurpleHueHi | 70 |
DefringePurpleHueLo | 30 |
Dehaze | 0 |
DigitalZoomRatio | 1.412656866 |
ExifImageHeight | 2408 |
ExifImageWidth | 5703 |
Exposure2012 | 0.00 |
ExposureCompensation | 0 |
ExposureMode | Auto |
ExposureProgram | Program AE |
ExposureTime | 1/950 |
Flash | Off, Did not fire |
FNumber | 1.8 |
FocalLength | 6.8 mm |
FocalLength35efl | 6.8 mm (35 mm equivalent: 35.0 mm) |
FocalLengthIn35mmFormat | 35 mm |
Format | image/jpeg |
FOV | 54.4 deg |
GPSAltitude (1) | 31.86711833 m |
GPSAltitude | 31.8 m Above Sea Level |
GPSAltitudeRef | Above Sea Level |
GPSDateStamp | 2024:05:08 |
GPSDateTime | 2024:05:08 19:51:11.99Z |
GPSDestBearing | 106.2774086 |
GPSDestBearingRef | True North |
GPSHPositioningError | 4.741195382 m |
GPSImgDirection | 106.2774086 |
GPSImgDirectionRef | True North |
GPSLatitude (1) | 70 deg 2' 14.53" |
GPSLatitude | 70 deg 2' 14.53" N |
GPSLatitudeRef | North |
GPSLongitude (1) | 20 deg 59' 48.08" |
GPSLongitude | 20 deg 59' 48.08" E |
GPSLongitudeRef | East |
GPSPosition | 70 deg 2' 14.53" N, 20 deg 59' 48.08" E |
GPSSpeed | 0 |
GPSSpeedRef | km/h |
GPSTimeStamp | 19:51:11.99 |
GrainAmount | 0 |
GreenHue | 0 |
GreenSaturation | 0 |
HasCrop | False |
HasSettings | True |
Highlights2012 | -30 |
HueAdjustmentAqua | 0 |
HueAdjustmentBlue | 0 |
HueAdjustmentGreen | 0 |
HueAdjustmentMagenta | 0 |
HueAdjustmentOrange | 0 |
HueAdjustmentPurple | 0 |
HueAdjustmentRed | 0 |
HueAdjustmentYellow | 0 |
HyperfocalDistance | 4.38 m |
ICCProfileName | sRGB IEC61966-2.1 |
ImageHeight | 2408 |
ImageSize | 5703x2408 |
ImageWidth | 5703 |
IncrementalTemperature | 0 |
IncrementalTint | 0 |
ISO | 80 |
Lens | iPhone 15 Pro back triple camera 6.765mm f/1.78 |
LensInfo (1) | 2.22000002861193-9mm f/1.77999997138807-2.8 |
LensInfo | 2.220000029-9mm f/1.779999971-2.8 |
LensMake | Apple |
LensManualDistortionAmount | 0 |
LensModel | iPhone 15 Pro back triple camera 6.765mm f/1.78 |
LensProfileEnable | 0 |
LightValue | 11.9 |
LuminanceAdjustmentAqua | 0 |
LuminanceAdjustmentBlue | 0 |
LuminanceAdjustmentGreen | 0 |
LuminanceAdjustmentMagenta | 0 |
LuminanceAdjustmentOrange | 0 |
LuminanceAdjustmentPurple | 0 |
LuminanceAdjustmentRed | 0 |
LuminanceAdjustmentYellow | 0 |
LuminanceSmoothing | 0 |
Make | Apple |
Megapixels | 13.7 |
MeteringMode | Multi-segment |
Model | iPhone 15 Pro |
ModifyDate (1) | 2024:05:09 00:48:48+02:00 |
ModifyDate | 2024:05:09 00:48:48 |
Orientation | Horizontal (normal) |
OverrideLookVignette | False |
ParametricDarks | 0 |
ParametricHighlights | 0 |
ParametricHighlightSplit | 75 |
ParametricLights | 0 |
ParametricMidtoneSplit | 50 |
ParametricShadows | 0 |
ParametricShadowSplit | 25 |
PerspectiveAspect | 0 |
PerspectiveHorizontal | 0 |
PerspectiveRotate | 0.0 |
PerspectiveScale | 100 |
PerspectiveUpright | 0 |
PerspectiveVertical | 0 |
PerspectiveX | 0.00 |
PerspectiveY | 0.00 |
PostCropVignetteAmount | 0 |
ProcessVersion | 15.4 |
ProfileDescription | sRGB IEC61966-2.1 |
RedHue | 0 |
RedSaturation | 0 |
Saturation | +5 |
SaturationAdjustmentAqua | 0 |
SaturationAdjustmentBlue | 0 |
SaturationAdjustmentGreen | 0 |
SaturationAdjustmentMagenta | 0 |
SaturationAdjustmentOrange | 0 |
SaturationAdjustmentPurple | 0 |
SaturationAdjustmentRed | 0 |
SaturationAdjustmentYellow | 0 |
ScaleFactor35efl | 5.2 |
SceneType | Directly photographed |
SensingMethod | One-chip color area |
Shadows2012 | 0 |
ShadowTint | 0 |
SharpenDetail | 25 |
SharpenEdgeMasking | 0 |
SharpenRadius | +1.0 |
Sharpness | 17 |
ShutterSpeed | 1/950 |
ShutterSpeedValue | 1/950 |
Software | Adobe Photoshop Elements 2024 Editor 24.0 (Macintosh) |
SplitToningBalance | 0 |
SplitToningHighlightHue | 0 |
SplitToningHighlightSaturation | 0 |
SplitToningShadowHue | 0 |
SplitToningShadowSaturation | 0 |
SubjectArea | 2838 2137 3277 1886 |
Texture | 0 |
ToneCurveName2012 | Linear |
ToneCurvePV2012 | 0, 0, 255, 255 |
ToneCurvePV2012Blue | 0, 0, 255, 255 |
ToneCurvePV2012Green | 0, 0, 255, 255 |
ToneCurvePV2012Red | 0, 0, 255, 255 |
URL_List | |
Version | 15.5 |
Vibrance | +8 |
VignetteAmount | 0 |
WhiteBalance (1) | As Shot |
WhiteBalance | Auto |
Whites2012 | -49 |