Felt | Verdi |
AlreadyApplied | True |
Aperture | 8.0 |
ApertureValue | 8.0 |
Artist | unknown |
AutoGrayscaleWeights | True |
BitsPerSample | 8 |
BlueHue | 0 |
BlueSaturation | 0 |
Brightness | +57 |
By-line | unknown |
CameraProfile | ACR 2.4 |
ChromaticAberrationB | 0 |
ChromaticAberrationR | 0 |
CircleOfConfusion | 0.019 mm |
ColorComponents | 1 |
ColorMode | RGB |
ColorNoiseReduction | 20 |
ColorSpace (1) | Unknown (-1) |
ColorSpace | Uncalibrated |
ColorTemperature | 5550 |
Contrast | +43 |
ConvertToGrayscale | False |
CopyrightFlag | False |
CreateDate (1) | 2007:08:18 20:34:36+02:00 |
CreateDate | 2007:08:08 15:06:41 |
Creator | unknown |
CreatorTool | Adobe Photoshop CS3 (10.0x20061208 [20061208.beta.1251 2006/12/08:02:00:00 cutoff; m branch]) Macintosh |
CustomRendered | Normal |
DateTimeDigitized | 2007:08:08 15:06:41+02:00 |
DateTimeOriginal (1) | 2007:08:08 15:06:41+02:00 |
DateTimeOriginal | 2007:08:08 15:06:41 |
ExifImageHeight | 500 |
ExifImageWidth | 750 |
Exposure | -0.15 |
ExposureCompensation | 0 |
ExposureMode | Manual |
ExposureProgram | Manual |
ExposureTime | 1/100 |
FillLight | 20 |
Firmware | 1.1.0 |
Flash | Off, Did not fire |
FlashCompensation | 0 |
FlashFired | False |
FlashFunction | False |
FlashMode | Off |
FlashRedEyeMode | False |
FlashReturn | No return detection |
FNumber | 8.0 |
FocalLength | 22.0 mm |
FocalLength35efl | 22.0 mm (35 mm equivalent: 35.2 mm) |
Format | image/jpeg |
FOV | 54.1 deg |
GreenHue | 0 |
GreenSaturation | 0 |
HasCrop | False |
HasSettings | True |
HighlightRecovery | 0 |
HueAdjustmentAqua | 0 |
HueAdjustmentBlue | 0 |
HueAdjustmentGreen | 0 |
HueAdjustmentMagenta | 0 |
HueAdjustmentOrange | 0 |
HueAdjustmentPurple | 0 |
HueAdjustmentRed | 0 |
HueAdjustmentYellow | 0 |
HyperfocalDistance | 3.22 m |
ICCProfileName | Adobe RGB (1998) |
ImageHeight | 500 |
ImageNumber | 86 |
ImageSize | 750x500 |
ImageWidth | 750 |
ISO | 100 |
Lens | 17.0-40.0 mm |
LensInfo | 17-40mm f/? |
LightValue | 12.6 |
LuminanceAdjustmentAqua | 0 |
LuminanceAdjustmentBlue | 0 |
LuminanceAdjustmentGreen | 0 |
LuminanceAdjustmentMagenta | 0 |
LuminanceAdjustmentOrange | 0 |
LuminanceAdjustmentPurple | 0 |
LuminanceAdjustmentRed | 0 |
LuminanceAdjustmentYellow | 0 |
LuminanceSmoothing | 0 |
Make | Canon |
MaxApertureValue | 4.0 |
Megapixels | 0.375 |
MeteringMode | Partial |
Model | Canon EOS 20D |
ModifyDate (1) | 2007:08:18 20:34:36+02:00 |
ModifyDate | 2007:08:18 20:34:36 |
Orientation | Horizontal (normal) |
OwnerName | unknown |
ParametricDarks | +7 |
ParametricHighlights | -100 |
ParametricHighlightSplit | 75 |
ParametricLights | -47 |
ParametricMidtoneSplit | 50 |
ParametricShadows | +13 |
ParametricShadowSplit | 25 |
Rating | 0 |
RawFileName | _MG_0086.CR2 |
RedHue | 0 |
RedSaturation | 0 |
Saturation | -19 |
SaturationAdjustmentAqua | 0 |
SaturationAdjustmentBlue | 0 |
SaturationAdjustmentGreen | 0 |
SaturationAdjustmentMagenta | 0 |
SaturationAdjustmentOrange | 0 |
SaturationAdjustmentPurple | 0 |
SaturationAdjustmentRed | 0 |
SaturationAdjustmentYellow | 0 |
ScaleFactor35efl | 1.6 |
SceneCaptureType | Standard |
SerialNumber | 830418315 |
Shadows | 10 |
ShadowTint | 0 |
Sharpness | 57 |
ShutterSpeed | 1/100 |
ShutterSpeedValue | 1/100 |
SidecarForExtension | CR2 |
Software | Adobe Photoshop CS3 (10.0x20061208 [20061208.beta.1251 2006/12/08:02:00:00 cutoff; m branch]) Macintosh |
SplitToningBalance | 0 |
SplitToningHighlightHue | 0 |
SplitToningHighlightSaturation | 0 |
SplitToningShadowHue | 0 |
SplitToningShadowSaturation | 0 |
Tint | +8 |
ToneCurve | 0, 0, 32, 22, 64, 56, 128, 128, 192, 196, 255, 255 |
ToneCurveName | Medium Contrast |
URL_List | |
Version | 4.0x168 |
Vibrance | 0 |
VignetteAmount | 0 |
WhiteBalance (2) | As Shot |
WhiteBalance | Auto |