Felt | Verdi |
AlreadyApplied | True |
BitsPerSample | 8 |
BlueHue | 0 |
BlueSaturation | 0 |
Brightness | 0 |
By-line | ¯ivind R. Nilsen |
CameraProfile | Embedded |
ChromaticAberrationB | 0 |
ChromaticAberrationR | 0 |
Clarity | 19 |
ColorComponents | 1 |
ColorSpace | sRGB |
Contrast | 0 |
ConvertToGrayscale | True |
Copyright | Oivind R. Nilsen |
CopyrightNotice | ¯ivind R. Nilsen |
CreateDate | 2007:10:15 23:11:23+02:00 |
Creator | Øivind R. Nilsen |
CreatorAddress | Sandsmoen 12 |
CreatorPostalCode | 1903 Gan |
CreatorTool | Adobe Photoshop Lightroom |
CropAngle | 0 |
CropBottom | 0.903743 |
CropHeight | 768 |
CropLeft | 0.037975 |
CropRight | 0.946203 |
CropTop | 0.057618 |
CropUnit | pixels |
CropWidth | 555 |
Defringe | 0 |
DerivedFrom | |
ExifImageHeight | 5401 |
ExifImageWidth | 3634 |
Exposure | +1.24 |
FillLight | 0 |
Format | application/vnd.adobe.photoshop |
GrayMixerAqua | -17 |
GrayMixerBlue | +5 |
GrayMixerGreen | +1 |
GrayMixerMagenta | +3 |
GrayMixerOrange | -18 |
GrayMixerPurple | +14 |
GrayMixerRed | -40 |
GrayMixerYellow | +6 |
GreenHue | 0 |
GreenSaturation | 0 |
HasCrop | True |
HasSettings | True |
HighlightRecovery | 24 |
ImageHeight | 768 |
ImageSize | 555x768 |
ImageWidth | 555 |
IncrementalTemperature | +50 |
IncrementalTint | -16 |
Keywords | Ida, Nilsen Aune, Teodor |
LuminanceSmoothing | 0 |
Make | Nikon |
Marked | True |
Megapixels | 0.426 |
Model | Nikon COOLSCAN V ED |
ModifyDate (1) | 2007:10:17 22:45:07+02:00 |
ModifyDate | 2007:10:17 22:45:07 |
ParametricDarks | 0 |
ParametricHighlights | -16 |
ParametricHighlightSplit | 75 |
ParametricLights | 0 |
ParametricMidtoneSplit | 50 |
ParametricShadows | +8 |
ParametricShadowSplit | 25 |
ProfileDescription | sRGB IEC61966-2.1 |
RedHue | 0 |
RedSaturation | 0 |
Rights | Øivind R. Nilsen |
Shadows | 3 |
ShadowTint | 0 |
SharpenDetail | 25 |
SharpenEdgeMasking | 0 |
SharpenRadius | +1.0 |
Sharpness | 28 |
Software | Adobe Photoshop CS3 Macintosh |
SplitToningBalance | 0 |
SplitToningHighlightHue | 0 |
SplitToningHighlightSaturation | 0 |
SplitToningShadowHue | 0 |
SplitToningShadowSaturation | 0 |
Subject | Ida, Nilsen Aune, Teodor |
ToneCurve | 0, 0, 255, 255 |
ToneCurveName | Linear |
Version | 1.0 |
VignetteAmount | 0 |
WhiteBalance | Auto |