Felt | Verdi |
AlreadyApplied | True |
Aperture | 1.8 |
ApertureValue | 1.8 |
ApproximateFocusDistance | 1.41 |
BitsPerSample | 8 |
BlueHue | +2 |
BlueSaturation | 0 |
Brightness | -44 |
CameraProfile | Embedded |
CFAPattern | [Red,Green][Green,Blue] |
ChromaticAberrationB | 0 |
ChromaticAberrationR | 0 |
CircleOfConfusion | 0.020 mm |
Clarity | 0 |
ColorComponents | 3 |
ColorNoiseReduction | 0 |
Contrast (1) | +100 |
Contrast | Normal |
ConvertToGrayscale | False |
CreateDate (1) | 2011:06:12 18:32:00.00 |
CreateDate | 2011:06:12 18:32:00 |
CreatorTool | Adobe Photoshop Lightroom 3.4.1 |
CustomRendered | Normal |
DateAcquired | 2011:06:12 18:46:13.807 |
DateCreated (1) | 2011:06:12 |
DateCreated | 2011:06:12 18:32:00.00 |
DateTimeOriginal | 2011:06:12 18:32:00 |
Defringe | 0 |
DigitalZoomRatio | 1 |
DOF | 0.12 m (1.35 - 1.47 m) |
Exposure | -0.45 |
ExposureCompensation | -4/3 |
ExposureMode | Auto |
ExposureProgram | Aperture-priority AE |
ExposureTime | 1/4000 |
FillLight | 0 |
Flash | No Flash |
FNumber | 1.8 |
FocalLength | 35.0 mm |
FocalLength35efl | 35.0 mm (35 mm equivalent: 52.0 mm) |
FocalLengthIn35mmFormat | 52 mm |
FOV | 38.2 deg |
GainControl | None |
GrainAmount | 0 |
GreenHue | 0 |
GreenSaturation | 0 |
HasCrop | False |
HasSettings | True |
HighlightRecovery | 100 |
HueAdjustmentAqua | 0 |
HueAdjustmentBlue | 0 |
HueAdjustmentGreen | 0 |
HueAdjustmentMagenta | 0 |
HueAdjustmentOrange | 0 |
HueAdjustmentPurple | 0 |
HueAdjustmentRed | 0 |
HueAdjustmentYellow | 0 |
HyperfocalDistance | 33.65 m |
ImageHeight | 3264 |
ImageNumber | 1683 |
ImageSize | 4928x3264 |
ImageWidth | 4928 |
IncrementalTemperature | 0 |
IncrementalTint | 0 |
ISO | 100 |
Keywords | friends |
LastKeywordXMP | friends |
Lens | 35.0 mm f/1.8 |
LensID (1) | 159 |
LensID | AF-S DX Nikkor 35mm f/1.8G |
LensInfo | 35mm f/1.8 |
LensManualDistortionAmount | 0 |
LensModel | 35.0 mm f/1.8 |
LensProfileEnable | 0 |
LensProfileSetup | LensDefaults |
LightSource | Fine Weather |
LightValue | 13.7 |
LuminanceAdjustmentAqua | 0 |
LuminanceAdjustmentBlue | 0 |
LuminanceAdjustmentGreen | 0 |
LuminanceAdjustmentMagenta | 0 |
LuminanceAdjustmentOrange | 0 |
LuminanceAdjustmentPurple | 0 |
LuminanceAdjustmentRed | 0 |
LuminanceAdjustmentYellow | 0 |
LuminanceSmoothing | 0 |
Make | NIKON CORPORATION |
MaxApertureValue | 1.7 |
Megapixels | 16.1 |
MeteringMode | Multi-segment |
Model | NIKON D5100 |
ModifyDate (1) | 2011:07:09 00:52:19+02:00 |
ModifyDate | 2011:07:09 00:52:19 |
PaintCorrectionActive | true |
PaintCorrectionAmount | 1.000000 |
PaintCorrectionBrightness (1) | 1.000000 |
PaintCorrectionBrightness (2) | 0.200000 |
PaintCorrectionBrightness | 0.000000 |
PaintCorrectionClarity (1) | 1.000000 |
PaintCorrectionClarity (2) | 0.670588 |
PaintCorrectionClarity | 0.247059 |
PaintCorrectionContrast (2) | 1.000000 |
PaintCorrectionContrast | 0.000000 |
PaintCorrectionExposure (1) | 1.000000 |
PaintCorrectionExposure (2) | 0.482353 |
PaintCorrectionExposure | -0.223529 |
PaintCorrectionHue | 0.000000 |
PaintCorrectionMaskCenterWeight (3) | 0.009737 |
PaintCorrectionMaskCenterWeight | 0.000000 |
PaintCorrectionMaskFlow | 1.000000 |
PaintCorrectionMaskRadius (3) | 0.320096 |
PaintCorrectionMaskRadius | 0.244008 |
PaintCorrectionMaskValue | 0.712644 |
PaintCorrectionMaskWhat | Mask/Paint |
PaintCorrectionSaturation (1) | 1.000000 |
PaintCorrectionSaturation (5) | 0.529412 |
PaintCorrectionSaturation | 0.000000 |
PaintCorrectionSharpness (1) | 1.000000 |
PaintCorrectionSharpness (2) | 0.364706 |
PaintCorrectionSharpness | -0.011765 |
PaintCorrectionWhat | Correction |
ParametricDarks | 0 |
ParametricHighlights | 0 |
ParametricHighlightSplit | 75 |
ParametricLights | 0 |
ParametricMidtoneSplit | 50 |
ParametricShadows | 0 |
ParametricShadowSplit | 25 |
PerspectiveHorizontal | 0 |
PerspectiveRotate | 0.0 |
PerspectiveScale | 100 |
PerspectiveVertical | 0 |
PostCropVignetteAmount | 0 |
ProcessVersion | 5.7 |
ProfileDescription | sRGB IEC61966-2.1 |
RedHue | +16 |
RedSaturation | 0 |
Saturation (1) | 0 |
Saturation | Normal |
SaturationAdjustmentAqua | 0 |
SaturationAdjustmentBlue | 0 |
SaturationAdjustmentGreen | 0 |
SaturationAdjustmentMagenta | 0 |
SaturationAdjustmentOrange | 0 |
SaturationAdjustmentPurple | 0 |
SaturationAdjustmentRed | 0 |
SaturationAdjustmentYellow | 0 |
ScaleFactor35efl | 1.5 |
SceneCaptureType | Standard |
SceneType | Directly photographed |
SensingMethod | One-chip color area |
SensitivityType | Recommended Exposure Index |
SerialNumber | 6064767 |
Shadows | 0 |
ShadowTint | 0 |
SharpenDetail | 25 |
SharpenEdgeMasking | 0 |
SharpenRadius | +1.0 |
Sharpness (1) | 0 |
Sharpness | Normal |
ShutterSpeed | 1/4000 |
ShutterSpeedValue | 1/4000 |
Software | Adobe Photoshop Lightroom 3.4.1 |
SplitToningBalance | 0 |
SplitToningHighlightHue | 0 |
SplitToningHighlightSaturation | 0 |
SplitToningShadowHue | 0 |
SplitToningShadowSaturation | 0 |
Subject | friends |
SubjectDistance | 1.41 m |
SubjectDistanceRange | Unknown |
ToneCurve | 0, 0, 255, 255 |
ToneCurveName | Linear |
Version | 6.4.1 |
Vibrance | 0 |
VignetteAmount | 0 |
WhiteBalance (1) | As Shot |
WhiteBalance | Manual |