Felt | Verdi |
AlreadyApplied | True |
Aperture | 5.6 |
ApertureValue | 5.6 |
ApproximateFocusDistance | 4294967295 |
BitsPerSample | 8 |
BlueHue | 0 |
BlueSaturation | 0 |
Brightness | 0 |
By-line | Jan A. Emilsen |
CameraProfile | Embedded |
CFAPattern | [Green,Blue][Red,Green] |
ChromaticAberrationB | 0 |
ChromaticAberrationR | 0 |
CircleOfConfusion | 0.020 mm |
Clarity | 0 |
ColorComponents | 1 |
ColorNoiseReduction | 0 |
Contrast (2) | 0 |
Contrast | High |
ConvertToGrayscale | True |
Copyright | Copyright Jan A. Emilsen |
CopyrightNotice | Copyright Jan A. Emilsen |
CreateDate (1) | 2011:04:16 11:09:23.90+02:00 |
CreateDate | 2011:04:16 11:09:23 |
Creator | Jan A. Emilsen |
CreatorAddress | Søndre Rød 10b |
CreatorCity | 0752 Oslo |
CreatorCountry | Norway |
CreatorTool | Adobe Photoshop Lightroom 3.3 |
CreatorWorkEmail | jan_arne.emilsen@getmail.no |
CreatorWorkTelephone | 918 49 701 |
CustomRendered | Normal |
DateTimeDigitized | 2011:04:16 11:09:23.90+02:00 |
DateTimeOriginal (1) | 2011:04:16 11:09:23.90+02:00 |
DateTimeOriginal | 2011:04:16 11:09:23 |
Defringe | 0 |
DigitalZoomRatio | 1 |
DOF | inf (802.33 m - inf) |
ExifImageHeight | 669 |
ExifImageWidth | 1000 |
Exposure | +1.10 |
ExposureCompensation | 0 |
ExposureMode | Auto |
ExposureProgram | Aperture-priority AE |
ExposureTime | 1/160 |
FillLight | 0 |
Flash | No Flash |
FlashFired | False |
FlashFunction | False |
FlashMode | Unknown |
FlashRedEyeMode | False |
FlashReturn | No return detection |
FNumber | 5.6 |
FocalLength | 300.0 mm |
FocalLength35efl | 300.0 mm (35 mm equivalent: 450.0 mm) |
FocalLengthIn35mmFormat | 450 mm |
FOV | 4.6 deg |
GainControl | None |
GrainAmount | 0 |
GrayMixerAqua | -17 |
GrayMixerBlue | +9 |
GrayMixerGreen | -26 |
GrayMixerMagenta | +3 |
GrayMixerOrange | -18 |
GrayMixerPurple | +14 |
GrayMixerRed | -9 |
GrayMixerYellow | -22 |
GreenHue | 0 |
GreenSaturation | 0 |
HasCrop | False |
HasSettings | True |
HighlightRecovery | 44 |
HyperfocalDistance | 802.33 m |
ImageHeight | 669 |
ImageNumber | 5142 |
ImageSize | 1000x669 |
ImageWidth | 1000 |
IncrementalTemperature | 0 |
IncrementalTint | 0 |
ISO | 100 |
Lens | 55.0-300.0 mm f/4.5-5.6 |
LensID (1) | 172 |
LensID | AF-S DX Nikkor 55-300mm f/4.5-5.6G ED VR |
LensInfo | 55-300mm f/4.5-5.6 |
LensManualDistortionAmount | 0 |
LensModel | 55.0-300.0 mm f/4.5-5.6 |
LensProfileEnable | 0 |
LensProfileSetup | LensDefaults |
LightSource | Unknown |
LightValue | 12.3 |
LuminanceSmoothing | 0 |
Make | NIKON CORPORATION |
MaxApertureValue | 5.7 |
Megapixels | 0.669 |
MeteringMode | Center-weighted average |
Model | NIKON D80 |
ModifyDate (1) | 2011:04:18 19:09:35+02:00 |
ModifyDate | 2011:04:18 19:09:35 |
ParametricDarks | 0 |
ParametricHighlights | 0 |
ParametricHighlightSplit | 75 |
ParametricLights | 0 |
ParametricMidtoneSplit | 50 |
ParametricShadows | 0 |
ParametricShadowSplit | 25 |
PerspectiveHorizontal | 0 |
PerspectiveRotate | 0.0 |
PerspectiveScale | 100 |
PerspectiveVertical | 0 |
PostCropVignetteAmount | 0 |
ProcessVersion | 5.7 |
ProfileDescription | sRGB IEC61966-2.1 |
RedHue | 0 |
RedSaturation | 0 |
Rights | Copyright Jan A. Emilsen |
Saturation | Normal |
ScaleFactor35efl | 1.5 |
SceneCaptureType | Standard |
SceneType | Directly photographed |
SensingMethod | One-chip color area |
SensitivityType | Unknown |
SerialNumber | 4387476 |
Shadows | 67 |
ShadowTint | 0 |
SharpenDetail | 35 |
SharpenEdgeMasking | 0 |
SharpenRadius | +0.8 |
Sharpness (2) | 40 |
Sharpness | Normal |
ShutterSpeed | 1/160 |
ShutterSpeedValue | 1/160 |
Software | Ver.1.10 |
SplitToningBalance | 0 |
SplitToningHighlightHue | 0 |
SplitToningHighlightSaturation | 0 |
SplitToningShadowHue | 0 |
SplitToningShadowSaturation | 0 |
SubjectDistance | 4294967295 m |
SubjectDistanceRange | Unknown |
ToneCurve | 0, 0, 32, 22, 64, 56, 128, 128, 192, 196, 255, 255 |
ToneCurveName | Medium Contrast |
UsageTerms | No reproduction of any kind without prior written approval |
Version | 6.3 |
VignetteAmount | 0 |
WhiteBalance (2) | As Shot |
WhiteBalance | Auto |