Felt | Verdi |
AlreadyApplied | True |
Aperture | 11.0 |
ApertureValue | 11.0 |
ApproximateFocusDistance | 4294967295 |
Artist | Ivar Isaksen |
BitsPerSample | 8 |
BlueHue | 0 |
BlueSaturation | 0 |
Brightness | +50 |
By-line | Ivar Isaksen |
CameraProfile | Adobe Standard |
ChromaticAberrationB | 0 |
ChromaticAberrationR | 0 |
CircleOfConfusion | 0.019 mm |
City | Skjervøy |
Clarity | +87 |
ColorComponents | 3 |
ColorNoiseReduction | 25 |
ColorNoiseReductionDetail | 50 |
ColorTemperature | 5500 |
Contrast | +25 |
ConvertToGrayscale | False |
Copyright | Ivar Isaksen |
CopyrightFlag | True |
CopyrightNotice | Ivar Isaksen |
Country | Norge |
Country-PrimaryLocationName | Norge |
CreateDate (1) | 2012:04:08 09:26:41.00 |
CreateDate | 2012:04:08 09:26:41 |
Creator | Ivar Isaksen |
CreatorAddress | Rønning Østgaardsvei 26 |
CreatorCity | SKJERVØY |
CreatorCountry | NORWAY |
CreatorPostalCode | 9180 |
CreatorRegion | SKJERVØY |
CreatorTool | Adobe Photoshop Lightroom 3.6 (Windows) |
CreatorWorkEmail | ivar@trollnet.no |
CreatorWorkTelephone | +47 959 09 473 |
CreatorWorkURL | ivar@isaksen.org |
CropAngle | 0.120606 |
CropBottom | 0.668988 |
CropConstrainToWarp | 0 |
CropHeight | 444 |
CropLeft | 0.107797 |
CropRight | 0.883386 |
CropTop | 0.150091 |
CropUnit | pixels |
CropWidth | 1000 |
CustomRendered | Normal |
DateCreated (1) | 2012:04:08 |
DateCreated | 2012:04:08 09:26:41.00 |
DateTimeOriginal | 2012:04:08 09:26:41 |
Defringe | 0 |
DOF | inf (23.28 m - inf) |
Exposure | +0.41 |
ExposureCompensation | 0 |
ExposureMode | Auto |
ExposureProgram | Aperture-priority AE |
ExposureTime | 1/320 |
FillLight | 6 |
Firmware | 1.2.1 |
Flash | Off, Did not fire |
FlashCompensation | 0 |
FNumber | 11.0 |
FocalLength | 70.0 mm |
FocalLength35efl | 70.0 mm (35 mm equivalent: 109.9 mm) |
Format | image/jpeg |
FOV | 18.6 deg |
GrainAmount | 0 |
GreenHue | 0 |
GreenSaturation | 0 |
HasCrop | True |
HasSettings | True |
HighlightRecovery | 37 |
HueAdjustmentAqua | 0 |
HueAdjustmentBlue | 0 |
HueAdjustmentGreen | 0 |
HueAdjustmentMagenta | 0 |
HueAdjustmentOrange | 0 |
HueAdjustmentPurple | 0 |
HueAdjustmentRed | 0 |
HueAdjustmentYellow | 0 |
HyperfocalDistance | 23.28 m |
ImageHeight | 444 |
ImageNumber | 0 |
ImageSize | 1000x444 |
ImageWidth | 1000 |
ISO | 200 |
Keywords | Landskap |
Lens | EF70-200mm f/4L IS USM |
LensID (1) | 242 |
LensID | Canon EF 70-200mm f/4L IS USM |
LensInfo | 70-200mm f/? |
LensManualDistortionAmount | 0 |
LensModel | EF70-200mm f/4L IS USM |
LensProfileChromaticAberrationScale | 100 |
LensProfileDistortionScale | 100 |
LensProfileEnable | 1 |
LensProfileFilename | Canon EOS 5D Mark II (Canon EF 70-200mm f4L IS USM) - RAW.lcp |
LensProfileName | Adobe (Canon EF 70-200mm f/4 L IS USM) |
LensProfileSetup | LensDefaults |
LensProfileVignettingScale | 100 |
LightValue | 14.2 |
LuminanceAdjustmentAqua | 0 |
LuminanceAdjustmentBlue | 0 |
LuminanceAdjustmentGreen | 0 |
LuminanceAdjustmentMagenta | 0 |
LuminanceAdjustmentOrange | 0 |
LuminanceAdjustmentPurple | 0 |
LuminanceAdjustmentRed | 0 |
LuminanceAdjustmentYellow | 0 |
LuminanceSmoothing | 0 |
Make | Canon |
Marked | True |
MaxApertureValue | 4.0 |
Megapixels | 0.444 |
MeteringMode | Center-weighted average |
Model | Canon EOS 7D |
ModifyDate (1) | 2012:04:12 22:14:18+02:00 |
ModifyDate | 2012:04:12 22:14:18 |
ParametricDarks | -44 |
ParametricHighlights | +2 |
ParametricHighlightSplit | 75 |
ParametricLights | +38 |
ParametricMidtoneSplit | 50 |
ParametricShadows | 0 |
ParametricShadowSplit | 25 |
PerspectiveHorizontal | 0 |
PerspectiveRotate | 0.0 |
PerspectiveScale | 100 |
PerspectiveVertical | 0 |
PostCropVignetteAmount | 0 |
ProcessVersion | 5.7 |
ProfileDescription | sRGB IEC61966-2.1 |
RedHue | 0 |
RedSaturation | 0 |
Rights | Ivar Isaksen |
Saturation | +10 |
SaturationAdjustmentAqua | 0 |
SaturationAdjustmentBlue | 0 |
SaturationAdjustmentGreen | 0 |
SaturationAdjustmentMagenta | 0 |
SaturationAdjustmentOrange | 0 |
SaturationAdjustmentPurple | 0 |
SaturationAdjustmentRed | 0 |
SaturationAdjustmentYellow | 0 |
ScaleFactor35efl | 1.6 |
SceneCaptureType | Standard |
SerialNumber | 1080707387 |
Shadows | 16 |
ShadowTint | 0 |
SharpenDetail | 64 |
SharpenEdgeMasking | 65 |
SharpenRadius | +1.6 |
Sharpness | 81 |
ShutterSpeed | 1/320 |
ShutterSpeedValue | 1/320 |
Software | Adobe Photoshop Lightroom 3.6 (Windows) |
SplitToningBalance | 0 |
SplitToningHighlightHue | 0 |
SplitToningHighlightSaturation | 0 |
SplitToningShadowHue | 0 |
SplitToningShadowSaturation | 0 |
Subject | Landskap |
SubjectDistance | 4294967295 m |
Tint | +10 |
ToneCurve | 0, 0, 32, 22, 64, 56, 128, 128, 192, 196, 255, 255 |
ToneCurveName | Medium Contrast |
Version | 6.6 |
Vibrance | -70 |
VignetteAmount | 0 |
WhiteBalance (1) | Daylight |
WhiteBalance | Auto |