Felt | Verdi |
AlreadyApplied | True |
Aperture | 4.5 |
ApertureValue | 4.5 |
ApproximateFocusDistance | 0.3 |
Artist | Hanna Monsen |
BitsPerSample | 8 |
BlueHue | 0 |
BlueSaturation | 0 |
Brightness | +50 |
By-line | Hanna Monsen |
CameraProfile | Adobe Standard |
ChromaticAberrationB | 0 |
ChromaticAberrationR | 0 |
CircleOfConfusion | 0.031 mm |
Clarity | +100 |
ColorComponents | 3 |
ColorNoiseReduction | 25 |
ColorNoiseReductionDetail | 50 |
ColorTemperature | 4950 |
Contrast | +40 |
ConvertToGrayscale | False |
Copyright | Hanna Monsen |
CopyrightFlag | True |
CopyrightNotice | Hanna Monsen |
CreateDate (1) | 2011:07:25 18:37:29.26+02:00 |
CreateDate | 2011:07:25 18:37:29 |
Creator | Hanna Monsen |
CreatorAddress | Sandbakkveien 16 |
CreatorCity | Rognan |
CreatorCountry | Norway |
CreatorPostalCode | 8250 |
CreatorTool | Adobe Photoshop Lightroom 3.6 (Macintosh) |
CreatorWorkTelephone | 004748154795 |
CropAngle | 0 |
CropBottom | 0.929244 |
CropConstrainToWarp | 0 |
CropHeight | 3479 |
CropLeft | 0.313287 |
CropRight | 0.932783 |
CropTop | 0 |
CropUnit | pixels |
CropWidth | 3479 |
CustomRendered | Normal |
DateCreated (1) | 2011:07:25 |
DateCreated | 2011:07:25 18:37:29.26+02:00 |
DateTimeOriginal | 2011:07:25 18:37:29 |
Defringe | 0 |
DerivedFrom | |
DOF | 0.002 m (0.299 - 0.301 m) |
Exposure | +0.10 |
ExposureCompensation | 0 |
ExposureMode | Manual |
ExposureProgram | Manual |
ExposureTime | 1/200 |
FillLight | 32 |
Firmware | 2.0.8 |
Flash | Off, Did not fire |
FlashCompensation | 0 |
FNumber | 4.5 |
FocalLength | 100.0 mm |
FocalLength35efl | 100.0 mm (35 mm equivalent: 97.6 mm) |
Format | image/jpeg |
FOV | 20.9 deg |
GrainAmount | 0 |
GreenHue | 0 |
GreenSaturation | 0 |
HasCrop | True |
HasSettings | True |
HighlightRecovery | 0 |
HueAdjustmentAqua | 0 |
HueAdjustmentBlue | 0 |
HueAdjustmentGreen | 0 |
HueAdjustmentMagenta | 0 |
HueAdjustmentOrange | 0 |
HueAdjustmentPurple | 0 |
HueAdjustmentRed | 0 |
HueAdjustmentYellow | 0 |
HyperfocalDistance | 72.18 m |
ImageHeight | 3479 |
ImageNumber | 0 |
ImageSize | 3479x3479 |
ImageWidth | 3479 |
ISO | 800 |
Keywords | BOTANIKK, BYER OG STEDER, Blomster, Humle, Insekter, SALTDAL, Tangodden, Zoologi |
Lens | EF100mm f/2.8L Macro IS USM |
LensID (1) | 254 |
LensID | Canon EF 100mm f/2.8L Macro IS USM |
LensInfo | 100mm f/? |
LensManualDistortionAmount | 0 |
LensModel | EF100mm f/2.8L Macro IS USM |
LensProfileEnable | 0 |
LensProfileSetup | LensDefaults |
LightValue | 9.0 |
LuminanceAdjustmentAqua | 0 |
LuminanceAdjustmentBlue | 0 |
LuminanceAdjustmentGreen | 0 |
LuminanceAdjustmentMagenta | 0 |
LuminanceAdjustmentOrange | 0 |
LuminanceAdjustmentPurple | 0 |
LuminanceAdjustmentRed | 0 |
LuminanceAdjustmentYellow | 0 |
LuminanceSmoothing | 0 |
Make | Canon |
Marked | True |
MaxApertureValue | 2.8 |
Megapixels | 12.1 |
MeteringMode | Multi-segment |
Model | Canon EOS 5D Mark II |
ModifyDate (1) | 2012:05:25 17:44:19+02:00 |
ModifyDate | 2012:05:25 17:44:19 |
ParametricDarks | -1 |
ParametricHighlights | +11 |
ParametricHighlightSplit | 75 |
ParametricLights | -45 |
ParametricMidtoneSplit | 50 |
ParametricShadows | 0 |
ParametricShadowSplit | 25 |
PerspectiveHorizontal | 0 |
PerspectiveRotate | 0.0 |
PerspectiveScale | 100 |
PerspectiveVertical | 0 |
PostCropVignetteAmount | 0 |
ProcessVersion | 5.7 |
ProfileDescription | sRGB IEC61966-2.1 |
RedHue | 0 |
RedSaturation | 0 |
Rights | Hanna Monsen |
Saturation | +45 |
SaturationAdjustmentAqua | 0 |
SaturationAdjustmentBlue | 0 |
SaturationAdjustmentGreen | 0 |
SaturationAdjustmentMagenta | 0 |
SaturationAdjustmentOrange | 0 |
SaturationAdjustmentPurple | 0 |
SaturationAdjustmentRed | 0 |
SaturationAdjustmentYellow | 0 |
ScaleFactor35efl | 1.0 |
SceneCaptureType | Standard |
SerialNumber | 2931530751 |
Shadows | 6 |
ShadowTint | 0 |
SharpenDetail | 35 |
SharpenEdgeMasking | 0 |
SharpenRadius | +0.8 |
Sharpness | 40 |
ShutterSpeed | 1/200 |
ShutterSpeedValue | 1/200 |
Software | Adobe Photoshop Lightroom 3.6 (Macintosh) |
SplitToningBalance | 0 |
SplitToningHighlightHue | 0 |
SplitToningHighlightSaturation | 0 |
SplitToningShadowHue | 0 |
SplitToningShadowSaturation | 0 |
Subject | BOTANIKK, BYER OG STEDER, Blomster, Humle, Insekter, SALTDAL, Tangodden, Zoologi |
SubjectDistance | 0.3 m |
Tint | +26 |
ToneCurve | 0, 0, 32, 22, 64, 56, 128, 128, 192, 196, 255, 255 |
ToneCurveName | Medium Contrast |
Version | 6.6 |
Vibrance | 0 |
VignetteAmount | 0 |
WhiteBalance (1) | As Shot |
WhiteBalance | Auto |