Felt | Verdi |
AlreadyApplied | True |
Aperture | 2.8 |
ApertureValue | 2.8 |
ApproximateFocusDistance | 1.5 |
BitsPerSample | 8 |
BlueHue | 0 |
BlueSaturation | 0 |
Brightness | +50 |
CameraProfile | Adobe Standard |
CFAPattern | [Red,Green][Green,Blue] |
ChromaticAberrationB | 0 |
ChromaticAberrationR | 0 |
CircleOfConfusion | 0.030 mm |
Clarity | +33 |
ColorComponents | 3 |
ColorMode | RGB |
ColorNoiseReduction | 25 |
ColorNoiseReductionDetail | 50 |
ColorSpace | sRGB |
ColorTemperature | 2700 |
Contrast (2) | +25 |
Contrast | Normal |
ConvertToGrayscale | False |
CreateDate (1) | 2012:07:05 13:50:34.38+02:00 |
CreateDate | 2012:07:05 13:50:34 |
CreatorTool | Ver.1.01 |
CustomRendered | Normal |
DateCreated | 2012:07:05 |
DateTimeOriginal (1) | 2012:07:05 13:50:34+02:00 |
DateTimeOriginal | 2012:07:05 13:50:34 |
Defringe | 0 |
DigitalZoomRatio | 1 |
DOF | 1.59 m (1.05 - 2.64 m) |
ExifImageHeight | 841 |
ExifImageWidth | 1265 |
Exposure | -1.90 |
ExposureCompensation | +2 |
ExposureMode | Manual |
ExposureProgram | Manual |
ExposureTime | 1/30 |
FillLight | 0 |
Flash | No Flash |
FlashFired | False |
FlashFunction | False |
FlashMode | Unknown |
FlashRedEyeMode | False |
FlashReturn | No return detection |
FNumber | 2.8 |
FocalLength | 17.0 mm |
FocalLength35efl | 17.0 mm (35 mm equivalent: 17.0 mm) |
FocalLengthIn35mmFormat | 17 mm |
Format | image/jpeg |
FOV | 93.3 deg |
GainControl | High gain up |
GrainAmount | 0 |
GreenHue | 0 |
GreenSaturation | 0 |
HasCrop | False |
HasSettings | True |
HighlightRecovery | 6 |
HueAdjustmentAqua | 0 |
HueAdjustmentBlue | 0 |
HueAdjustmentGreen | 0 |
HueAdjustmentMagenta | 0 |
HueAdjustmentOrange | 0 |
HueAdjustmentPurple | 0 |
HueAdjustmentRed | 0 |
HueAdjustmentYellow | 0 |
HyperfocalDistance | 3.44 m |
ICCProfileName | sRGB IEC61966-2.1 |
ImageHeight | 841 |
ImageNumber | 44571 |
ImageSize | 1265x841 |
ImageWidth | 1265 |
ISO (1) | 102400 |
ISO | 65535 |
Lens | 17.0-35.0 mm f/2.8 |
LensID (1) | 99 |
LensID | AF-S Nikkor 17-35mm f/2.8D IF-ED |
LensInfo | 17-35mm f/2.8 |
LensManualDistortionAmount | 0 |
LensModel | 17.0-35.0 mm f/2.8 |
LensProfileEnable | 0 |
LensProfileSetup | LensDefaults |
LightSource | Unknown |
LightValue | -1.5 |
LuminanceAdjustmentAqua | 0 |
LuminanceAdjustmentBlue | 0 |
LuminanceAdjustmentGreen | 0 |
LuminanceAdjustmentMagenta | 0 |
LuminanceAdjustmentOrange | 0 |
LuminanceAdjustmentPurple | 0 |
LuminanceAdjustmentRed | 0 |
LuminanceAdjustmentYellow | 0 |
LuminanceSmoothing | 0 |
Make | NIKON CORPORATION |
MaxApertureValue | 2.8 |
Megapixels | 1.1 |
MeteringMode | Multi-segment |
Model | NIKON D3S |
ModifyDate (1) | 2012:07:05 20:20:31+02:00 |
ModifyDate | 2012:07:05 20:20:31 |
Orientation | Horizontal (normal) |
ParametricDarks | 0 |
ParametricHighlights | 0 |
ParametricHighlightSplit | 75 |
ParametricLights | 0 |
ParametricMidtoneSplit | 50 |
ParametricShadows | 0 |
ParametricShadowSplit | 25 |
PerspectiveHorizontal | 0 |
PerspectiveRotate | 0.0 |
PerspectiveScale | 100 |
PerspectiveVertical | 0 |
PostCropVignetteAmount | 0 |
ProcessVersion | 5.7 |
ProfileDescription | sRGB IEC61966-2.1 |
Rating | 0 |
RawFileName | _DSC4481.NEF |
RedHue | 0 |
RedSaturation | 0 |
Saturation (2) | +3 |
Saturation | Normal |
SaturationAdjustmentAqua | 0 |
SaturationAdjustmentBlue | 0 |
SaturationAdjustmentGreen | 0 |
SaturationAdjustmentMagenta | 0 |
SaturationAdjustmentOrange | 0 |
SaturationAdjustmentPurple | 0 |
SaturationAdjustmentRed | 0 |
SaturationAdjustmentYellow | 0 |
ScaleFactor35efl | 1.0 |
SceneCaptureType | Standard |
SceneType | Directly photographed |
SensingMethod | One-chip color area |
SerialNumber | 2038955 |
Shadows | 10 |
ShadowTint | 0 |
SharpenDetail | 25 |
SharpenEdgeMasking | 0 |
SharpenRadius | +1.0 |
Sharpness (2) | 25 |
Sharpness | Normal |
ShutterSpeed | 1/30 |
ShutterSpeedValue | 1/30 |
Software | Adobe Photoshop Elements 10.0 Windows |
SplitToningBalance | 0 |
SplitToningHighlightHue | 0 |
SplitToningHighlightSaturation | 0 |
SplitToningShadowHue | 0 |
SplitToningShadowSaturation | 0 |
SubjectDistance | 1.5 m |
SubjectDistanceRange | Unknown |
Tint | -13 |
ToneCurve | 0, 0, 32, 22, 64, 56, 128, 128, 192, 196, 255, 255 |
ToneCurveName | Medium Contrast |
URL_List | |
Version | 6.6 |
Vibrance | +8 |
VignetteAmount | 0 |
WhiteBalance (2) | Custom |
WhiteBalance | Auto |